BEGIN:VCALENDAR
VERSION:2.0
PRODID:-//eventon.com NONSGML v1.0//EN
CALSCALE:GREGORIAN
METHOD:PUBLISH
BEGIN:VEVENT
UID:69e74c22463bc
DTSTAMP:20260421T100626Z
DTSTART:20250328T120000Z
DTEND:20250329T035900Z
LOCATION:
SUMMARY:Marketing Activation
DESCRIPTION:Marketing Activation\nhttps://ecunewexperience.com/events/marke
 ting-activation/
URL:https://ecunewexperience.com/events/marketing-activation/
END:VEVENT
END:VCALENDAR